BEGIN:VCALENDAR
VERSION:2.0
PRODID:gruene-glandorf.de
METHOD:PUBLISH
BEGIN:VTIMEZONE
TZID:Europe/Berlin
X-LIC-LOCATION:Europe/Berlin
BEGIN:DAYLIGHT
TZOFFSETFROM:+0100
TZOFFSETTO:+0200
TZNAME:CEST
DTSTART:19700329T020000
RRULE:FREQ=YEARLY;INTERVAL=1;BYDAY=-1SU;BYMONTH=3
END:DAYLIGHT
BEGIN:STANDARD
TZOFFSETFROM:+0200
TZOFFSETTO:+0100
TZNAME:CET
DTSTART:19701025T030000
RRULE:FREQ=YEARLY;INTERVAL=1;BYDAY=-1SU;BYMONTH=10
END:STANDARD
END:VTIMEZONE
BEGIN:VEVENT
UID:6bcd17cf69a04abd3bae89df14b5394a@gruene-glandorf.de
URL;VALUE=URI:https://gruene-glandorf.de/termine/nichtoeffentliche-vorsta
 ndswahlen-des-ortsverbandes-der-gruenen/
LOCATION:
SUMMARY:Nichtöffentliche Vorstandswahlen des Ortsverbandes Glandorf
DESCRIPTION;ALTREP="data:text/html,%0A%3Cp%3EAm%20Samstag%2C%20den%2028.0
 2.2026%20w%C3%A4hlt%20der%20Glandorfer%20Ortsverband%20der%20Gr%C3%BCnen%
 20einen%20neuen%20Vorstand.%20Die%20Wahlen%20finden%20nicht%C3%B6ffentlic
 h%20statt.%3C%2Fp%3E%0A%0A%0A%0A%3Cp%3E%3C%2Fp%3E%0A":Am Samstag\, den 28
 .02.2026 wählt der Glandorfer Ortsverband der Grünen einen neuen Vorsta
 nd. Die Wahlen finden nichtöffentlich statt.
CLASS:PUBLIC
DTSTART;TZID=Europe/Berlin:20260228T000000
DTEND;TZID=Europe/Berlin:20260228T010000
DTSTAMP:20260420T102150
END:VEVENT
END:VCALENDAR